BEGIN:VCALENDAR
VERSION:2.0
PRODID:-//Horwich Harriers AC - ECPv5.12.3//NONSGML v1.0//EN
CALSCALE:GREGORIAN
METHOD:PUBLISH
X-WR-CALNAME:Horwich Harriers AC
X-ORIGINAL-URL:https://horwichrmiharriers.co.uk
X-WR-CALDESC:Events for Horwich Harriers AC
BEGIN:VTIMEZONE
TZID:Europe/London
BEGIN:DAYLIGHT
TZOFFSETFROM:+0000
TZOFFSETTO:+0100
TZNAME:BST
DTSTART:20200329T010000
END:DAYLIGHT
BEGIN:STANDARD
TZOFFSETFROM:+0100
TZOFFSETTO:+0000
TZNAME:GMT
DTSTART:20201025T010000
END:STANDARD
END:VTIMEZONE
BEGIN:VEVENT
DTSTART;TZID=Europe/London:20200405T103000
DTEND;TZID=Europe/London:20200405T170000
DTSTAMP:20260424T233532
CREATED:20200309T172321Z
LAST-MODIFIED:20200309T172321Z
UID:7167-1586082600-1586106000@horwichrmiharriers.co.uk
SUMMARY:Wigan Harriers Open Meeting
DESCRIPTION:Track and Field event for U11 to seniors.  Pre entry online or by post or enter on day is still availability.
URL:https://horwichrmiharriers.co.uk/calendar/wigan-harriers-open-meeting/
LOCATION:Robin Park Arena\, Loire Drive\, Wigan\, WN5 0UH
CATEGORIES:Juniors,Seniors,Track And Field
END:VEVENT
END:VCALENDAR