BEGIN:VCALENDAR
VERSION:2.0
PRODID:-//Horwich Harriers AC - ECPv5.12.3//NONSGML v1.0//EN
CALSCALE:GREGORIAN
METHOD:PUBLISH
X-WR-CALNAME:Horwich Harriers AC
X-ORIGINAL-URL:https://horwichrmiharriers.co.uk
X-WR-CALDESC:Events for Horwich Harriers AC
BEGIN:VTIMEZONE
TZID:Europe/London
BEGIN:DAYLIGHT
TZOFFSETFROM:+0000
TZOFFSETTO:+0100
TZNAME:BST
DTSTART:20210328T010000
END:DAYLIGHT
BEGIN:STANDARD
TZOFFSETFROM:+0100
TZOFFSETTO:+0000
TZNAME:GMT
DTSTART:20211031T010000
END:STANDARD
END:VTIMEZONE
BEGIN:VEVENT
DTSTART;TZID=Europe/London:20210724T140000
DTEND;TZID=Europe/London:20210724T170000
DTSTAMP:20260423T193129
CREATED:20210623T100912Z
LAST-MODIFIED:20210623T100934Z
UID:7434-1627135200-1627146000@horwichrmiharriers.co.uk
SUMMARY:Turnslack Fell Race
DESCRIPTION:Category BM fell race covering  12.9km/610m. ER/PM.  Start 2.30pm for athletes over 16yrs.  Part of the FRA 50@50 series.  Entry online at SiEntries.
URL:https://horwichrmiharriers.co.uk/calendar/turn-slack-fell-race-2/
CATEGORIES:Fell,Seniors
END:VEVENT
END:VCALENDAR