BEGIN:VCALENDAR
VERSION:2.0
PRODID:-//Horwich Harriers AC - ECPv5.12.3//NONSGML v1.0//EN
CALSCALE:GREGORIAN
METHOD:PUBLISH
X-WR-CALNAME:Horwich Harriers AC
X-ORIGINAL-URL:https://horwichrmiharriers.co.uk
X-WR-CALDESC:Events for Horwich Harriers AC
BEGIN:VTIMEZONE
TZID:Europe/London
BEGIN:DAYLIGHT
TZOFFSETFROM:+0000
TZOFFSETTO:+0100
TZNAME:BST
DTSTART:20200329T010000
END:DAYLIGHT
BEGIN:STANDARD
TZOFFSETFROM:+0100
TZOFFSETTO:+0000
TZNAME:GMT
DTSTART:20201025T010000
END:STANDARD
END:VTIMEZONE
BEGIN:VEVENT
DTSTART;TZID=Europe/London:20200315T100000
DTEND;TZID=Europe/London:20200315T130000
DTSTAMP:20260422T211725
CREATED:20190307T080634Z
LAST-MODIFIED:20200212T170850Z
UID:6393-1584266400-1584277200@horwichrmiharriers.co.uk
SUMMARY:CANCELLED - Norman Matthews Challenge
DESCRIPTION:This 17K Fell race is open to anyone over the age of 16. Pre entry or enter on day if places still available. Registration 8.30-9.45am Black Dog Public House\, Belmont\, BL7 8AB. FRA full kit required.
URL:https://horwichrmiharriers.co.uk/calendar/norman-matthews-anglezarke-challenge/
CATEGORIES:Club Events,Fell,Seniors
END:VEVENT
END:VCALENDAR