BEGIN:VCALENDAR
VERSION:2.0
PRODID:-//Horwich Harriers AC - ECPv5.12.3//NONSGML v1.0//EN
CALSCALE:GREGORIAN
METHOD:PUBLISH
X-WR-CALNAME:Horwich Harriers AC
X-ORIGINAL-URL:https://horwichrmiharriers.co.uk
X-WR-CALDESC:Events for Horwich Harriers AC
BEGIN:VTIMEZONE
TZID:Europe/London
BEGIN:DAYLIGHT
TZOFFSETFROM:+0000
TZOFFSETTO:+0100
TZNAME:BST
DTSTART:20230326T010000
END:DAYLIGHT
BEGIN:STANDARD
TZOFFSETFROM:+0100
TZOFFSETTO:+0000
TZNAME:GMT
DTSTART:20231029T010000
END:STANDARD
END:VTIMEZONE
BEGIN:VEVENT
DTSTART;TZID=Europe/London:20230825T190000
DTEND;TZID=Europe/London:20230825T210000
DTSTAMP:20260419T153445
CREATED:20230127T193353Z
LAST-MODIFIED:20230127T193353Z
UID:7877-1692990000-1692997200@horwichrmiharriers.co.uk
SUMMARY:Mid Cheshire 5K
DESCRIPTION:A 5k road race open to anyone 13yrs and above and one of this years Horwich senior road championship races.  Pre entry.
URL:https://horwichrmiharriers.co.uk/calendar/mid-cheshire-5k/
CATEGORIES:Horwich Club Road Champs,Road/Trail,Seniors
END:VEVENT
END:VCALENDAR