BEGIN:VCALENDAR
VERSION:2.0
PRODID:-//Horwich Harriers AC - ECPv5.12.3//NONSGML v1.0//EN
CALSCALE:GREGORIAN
METHOD:PUBLISH
X-WR-CALNAME:Horwich Harriers AC
X-ORIGINAL-URL:https://horwichrmiharriers.co.uk
X-WR-CALDESC:Events for Horwich Harriers AC
BEGIN:VTIMEZONE
TZID:Europe/London
BEGIN:DAYLIGHT
TZOFFSETFROM:+0000
TZOFFSETTO:+0100
TZNAME:BST
DTSTART:20230326T010000
END:DAYLIGHT
BEGIN:STANDARD
TZOFFSETFROM:+0100
TZOFFSETTO:+0000
TZNAME:GMT
DTSTART:20231029T010000
END:STANDARD
END:VTIMEZONE
BEGIN:VEVENT
DTSTART;TZID=Europe/London:20230226T100000
DTEND;TZID=Europe/London:20230226T130000
DTSTAMP:20260421T204553
CREATED:20230127T190946Z
LAST-MODIFIED:20230127T190946Z
UID:7867-1677405600-1677416400@horwichrmiharriers.co.uk
SUMMARY:Lostock 6
DESCRIPTION:Lostock 6mile road race open to seniors and one of this years Horwich senior road championship races.  Pre entry only non on day.
URL:https://horwichrmiharriers.co.uk/calendar/lostock-6/
CATEGORIES:Horwich Club Road Champs,Road/Trail,Seniors
END:VEVENT
END:VCALENDAR