BEGIN:VCALENDAR
VERSION:2.0
PRODID:-//Horwich Harriers AC - ECPv5.12.3//NONSGML v1.0//EN
CALSCALE:GREGORIAN
METHOD:PUBLISH
X-WR-CALNAME:Horwich Harriers AC
X-ORIGINAL-URL:https://horwichrmiharriers.co.uk
X-WR-CALDESC:Events for Horwich Harriers AC
BEGIN:VTIMEZONE
TZID:Europe/London
BEGIN:DAYLIGHT
TZOFFSETFROM:+0000
TZOFFSETTO:+0100
TZNAME:BST
DTSTART:20210328T010000
END:DAYLIGHT
BEGIN:STANDARD
TZOFFSETFROM:+0100
TZOFFSETTO:+0000
TZNAME:GMT
DTSTART:20211031T010000
END:STANDARD
END:VTIMEZONE
BEGIN:VEVENT
DTSTART;TZID=Europe/London:20210612T080000
DTEND;TZID=Europe/London:20210612T170000
DTSTAMP:20260424T061051
CREATED:20210517T152421Z
LAST-MODIFIED:20210517T152421Z
UID:7398-1623484800-1623517200@horwichrmiharriers.co.uk
SUMMARY:Lancashire Schools Track & Field Champs
DESCRIPTION:Track and field events for school years 8-11. For information and entry see Gemma Stokes for Chorley Schools.
URL:https://horwichrmiharriers.co.uk/calendar/lancashire-schools-track-field-champs/
LOCATION:Stanley Park Arena\, West Park Drive\, Blackpool\, FY3 9HQ
CATEGORIES:Juniors,Track And Field
END:VEVENT
END:VCALENDAR