BEGIN:VCALENDAR
VERSION:2.0
PRODID:-//Horwich Harriers AC - ECPv5.12.3//NONSGML v1.0//EN
CALSCALE:GREGORIAN
METHOD:PUBLISH
X-WR-CALNAME:Horwich Harriers AC
X-ORIGINAL-URL:https://horwichrmiharriers.co.uk
X-WR-CALDESC:Events for Horwich Harriers AC
BEGIN:VTIMEZONE
TZID:Europe/London
BEGIN:DAYLIGHT
TZOFFSETFROM:+0000
TZOFFSETTO:+0100
TZNAME:BST
DTSTART:20200329T010000
END:DAYLIGHT
BEGIN:STANDARD
TZOFFSETFROM:+0100
TZOFFSETTO:+0000
TZNAME:GMT
DTSTART:20201025T010000
END:STANDARD
END:VTIMEZONE
BEGIN:VEVENT
DTSTART;TZID=Europe/London:20200328T093000
DTEND;TZID=Europe/London:20200328T140000
DTSTAMP:20260425T005622
CREATED:20200111T161857Z
LAST-MODIFIED:20200111T161923Z
UID:7005-1585387800-1585404000@horwichrmiharriers.co.uk
SUMMARY:Kettlewell Kaper Junior Fell Race
DESCRIPTION:One of this years junior fell championship.  Entries on day\, registration open 9.30 – 12.30.  For ages U9 – U19
URL:https://horwichrmiharriers.co.uk/calendar/kettlewell-kaper-junior-fell-race/
LOCATION:BD23 5QX\, Kettlewell\, BD23 5QX\, United Kingdom
CATEGORIES:Fell,Juniors
END:VEVENT
END:VCALENDAR