BEGIN:VCALENDAR
VERSION:2.0
PRODID:-//Horwich Harriers AC - ECPv5.12.3//NONSGML v1.0//EN
CALSCALE:GREGORIAN
METHOD:PUBLISH
X-WR-CALNAME:Horwich Harriers AC
X-ORIGINAL-URL:https://horwichrmiharriers.co.uk
X-WR-CALDESC:Events for Horwich Harriers AC
BEGIN:VTIMEZONE
TZID:Europe/London
BEGIN:DAYLIGHT
TZOFFSETFROM:+0000
TZOFFSETTO:+0100
TZNAME:BST
DTSTART:20230326T010000
END:DAYLIGHT
BEGIN:STANDARD
TZOFFSETFROM:+0100
TZOFFSETTO:+0000
TZNAME:GMT
DTSTART:20231029T010000
END:STANDARD
END:VTIMEZONE
BEGIN:VEVENT
DTSTART;TZID=Europe/London:20230716T130000
DTEND;TZID=Europe/London:20230716T170000
DTSTAMP:20260419T140622
CREATED:20230112T204204Z
LAST-MODIFIED:20230112T204204Z
UID:7791-1689512400-1689526800@horwichrmiharriers.co.uk
SUMMARY:Kentmere Horseshoe Fell Race
DESCRIPTION:One of the run the moors series of fell races open to seniors 18yrs+. This is a category AM race over 19.8Km or 12.3 Miles and is Pre entry only no entries on the day.
URL:https://horwichrmiharriers.co.uk/calendar/kentmere-horseshoe-fell-race/
LOCATION:Kentmere Villiage Hall
CATEGORIES:Fell,Run The Moors,Seniors
END:VEVENT
END:VCALENDAR