BEGIN:VCALENDAR
VERSION:2.0
PRODID:-//Horwich Harriers AC - ECPv5.12.3//NONSGML v1.0//EN
CALSCALE:GREGORIAN
METHOD:PUBLISH
X-WR-CALNAME:Horwich Harriers AC
X-ORIGINAL-URL:https://horwichrmiharriers.co.uk
X-WR-CALDESC:Events for Horwich Harriers AC
BEGIN:VTIMEZONE
TZID:Europe/London
BEGIN:DAYLIGHT
TZOFFSETFROM:+0000
TZOFFSETTO:+0100
TZNAME:BST
DTSTART:20230326T010000
END:DAYLIGHT
BEGIN:STANDARD
TZOFFSETFROM:+0100
TZOFFSETTO:+0000
TZNAME:GMT
DTSTART:20231029T010000
END:STANDARD
END:VTIMEZONE
BEGIN:VEVENT
DTSTART;TZID=Europe/London:20230907T183000
DTEND;TZID=Europe/London:20230907T203000
DTSTAMP:20260419T184705
CREATED:20230112T205558Z
LAST-MODIFIED:20230112T205558Z
UID:7799-1694111400-1694118600@horwichrmiharriers.co.uk
SUMMARY:Hades Hill Fell Race
DESCRIPTION:One of the run the moors fell series.  Open to 18yrs+.  This is a category BS race run over 8Km or 5Miles and is registration on day only no pre entry.
URL:https://horwichrmiharriers.co.uk/calendar/hades-hill-fell-race/
LOCATION:OL12 8PY\, The Red Lion Public House\, The Square\, Whitworth\, OL12 8PY
CATEGORIES:Fell,Run The Moors,Seniors
END:VEVENT
END:VCALENDAR