BEGIN:VCALENDAR
VERSION:2.0
PRODID:-//Horwich Harriers AC - ECPv5.12.3//NONSGML v1.0//EN
CALSCALE:GREGORIAN
METHOD:PUBLISH
X-WR-CALNAME:Horwich Harriers AC
X-ORIGINAL-URL:https://horwichrmiharriers.co.uk
X-WR-CALDESC:Events for Horwich Harriers AC
BEGIN:VTIMEZONE
TZID:Europe/London
BEGIN:DAYLIGHT
TZOFFSETFROM:+0000
TZOFFSETTO:+0100
TZNAME:BST
DTSTART:20210328T010000
END:DAYLIGHT
BEGIN:STANDARD
TZOFFSETFROM:+0100
TZOFFSETTO:+0000
TZNAME:GMT
DTSTART:20211031T010000
END:STANDARD
END:VTIMEZONE
BEGIN:VEVENT
DTSTART;TZID=Europe/London:20210821T080000
DTEND;TZID=Europe/London:20210821T170000
DTSTAMP:20260423T193022
CREATED:20210517T160544Z
LAST-MODIFIED:20210517T160544Z
UID:7408-1629532800-1629565200@horwichrmiharriers.co.uk
SUMMARY:Greater Manchester Championship
DESCRIPTION:Track and Field events for U13 plus.  Deadline for entry Sunday 8th August.  Entry online.
URL:https://horwichrmiharriers.co.uk/calendar/greater-manchester-championship/
LOCATION:Longford Park Stadium\, Ryebank Road\, Stretford\, Manchester\, M21 9TA
CATEGORIES:Juniors,Track And Field
END:VEVENT
END:VCALENDAR