BEGIN:VCALENDAR
VERSION:2.0
PRODID:-//Horwich Harriers AC - ECPv5.12.3//NONSGML v1.0//EN
CALSCALE:GREGORIAN
METHOD:PUBLISH
X-WR-CALNAME:Horwich Harriers AC
X-ORIGINAL-URL:https://horwichrmiharriers.co.uk
X-WR-CALDESC:Events for Horwich Harriers AC
BEGIN:VTIMEZONE
TZID:Europe/London
BEGIN:DAYLIGHT
TZOFFSETFROM:+0000
TZOFFSETTO:+0100
TZNAME:BST
DTSTART:20190331T010000
END:DAYLIGHT
BEGIN:STANDARD
TZOFFSETFROM:+0100
TZOFFSETTO:+0000
TZNAME:GMT
DTSTART:20191027T010000
END:STANDARD
END:VTIMEZONE
BEGIN:VEVENT
DTSTART;TZID=Europe/London:20190926T181500
DTEND;TZID=Europe/London:20190926T210000
DTSTAMP:20260422T115507
CREATED:20190912T192312Z
LAST-MODIFIED:20190912T192312Z
UID:6794-1569521700-1569531600@horwichrmiharriers.co.uk
SUMMARY:Fielden Cup Race
DESCRIPTION:A Horwich Harriers Club Race.  The Fielden Cup is a great chance to meet up with other Harriers and enjoy a get together afterwards. \nMeet at junction on George’s Lane with Matchmoor Lane between 6.15pm and 6.40pm armed with a recent time for a measured distance. This will be used to calculate your handicap.\nFirst runner off at 6.45pm. First Horwich Harrier back wins the Fielden Cup. Open to any runner\, over 15. No fee.\nClub get together at the Ale House after. Stay as long as possible.
URL:https://horwichrmiharriers.co.uk/calendar/fielden-cup-race/
CATEGORIES:Club Events,Seniors
END:VEVENT
END:VCALENDAR