BEGIN:VCALENDAR
VERSION:2.0
PRODID:-//Horwich Harriers AC - ECPv5.12.3//NONSGML v1.0//EN
CALSCALE:GREGORIAN
METHOD:PUBLISH
X-WR-CALNAME:Horwich Harriers AC
X-ORIGINAL-URL:https://horwichrmiharriers.co.uk
X-WR-CALDESC:Events for Horwich Harriers AC
BEGIN:VTIMEZONE
TZID:Europe/London
BEGIN:DAYLIGHT
TZOFFSETFROM:+0000
TZOFFSETTO:+0100
TZNAME:BST
DTSTART:20210328T010000
END:DAYLIGHT
BEGIN:STANDARD
TZOFFSETFROM:+0100
TZOFFSETTO:+0000
TZNAME:GMT
DTSTART:20211031T010000
END:STANDARD
END:VTIMEZONE
BEGIN:VEVENT
DTSTART;TZID=Europe/London:20210814T090000
DTEND;TZID=Europe/London:20210814T110000
DTSTAMP:20260423T180324
CREATED:20210316T122029Z
LAST-MODIFIED:20210707T093352Z
UID:7332-1628931600-1628938800@horwichrmiharriers.co.uk
SUMMARY:Club Parkrun Day
DESCRIPTION:Do a Parkrun with your fellow club members just for the fun of it.  We are hoping to make this a monthly event and give everyone a chance to socialise as well as run.
URL:https://horwichrmiharriers.co.uk/calendar/club-parkrun-day/
LOCATION:Haigh Hall\, Hall Lane\, Wigan\, WN2 1PE
CATEGORIES:Club Events,Juniors,Road/Trail,Seniors
END:VEVENT
END:VCALENDAR