BEGIN:VCALENDAR
VERSION:2.0
PRODID:-//Horwich Harriers AC - ECPv5.12.3//NONSGML v1.0//EN
CALSCALE:GREGORIAN
METHOD:PUBLISH
X-WR-CALNAME:Horwich Harriers AC
X-ORIGINAL-URL:https://horwichrmiharriers.co.uk
X-WR-CALDESC:Events for Horwich Harriers AC
BEGIN:VTIMEZONE
TZID:Europe/London
BEGIN:DAYLIGHT
TZOFFSETFROM:+0000
TZOFFSETTO:+0100
TZNAME:BST
DTSTART:20230326T010000
END:DAYLIGHT
BEGIN:STANDARD
TZOFFSETFROM:+0100
TZOFFSETTO:+0000
TZNAME:GMT
DTSTART:20231029T010000
END:STANDARD
END:VTIMEZONE
BEGIN:VEVENT
DTSTART;TZID=Europe/London:20230805T110000
DTEND;TZID=Europe/London:20230805T150000
DTSTAMP:20260419T185952
CREATED:20230112T204542Z
LAST-MODIFIED:20230112T204542Z
UID:7794-1691233200-1691247600@horwichrmiharriers.co.uk
SUMMARY:Chip Chase Fell Race
DESCRIPTION:One of the run the moors series of races open to 18yrs+. This is a category BS race over 10Km or 6.2Miles and is Pre entry or entry on day.
URL:https://horwichrmiharriers.co.uk/calendar/chip-chase-fell-race/
LOCATION:OL3 6LW\, Cross Keys Inn\, running Hill Gate\, Upper Mill\, Oldham\, OL3 6LW
CATEGORIES:Fell,Run The Moors,Seniors
END:VEVENT
END:VCALENDAR