BEGIN:VCALENDAR
VERSION:2.0
PRODID:-//Horwich Harriers AC - ECPv5.12.3//NONSGML v1.0//EN
CALSCALE:GREGORIAN
METHOD:PUBLISH
X-WR-CALNAME:Horwich Harriers AC
X-ORIGINAL-URL:https://horwichrmiharriers.co.uk
X-WR-CALDESC:Events for Horwich Harriers AC
BEGIN:VTIMEZONE
TZID:Europe/London
BEGIN:DAYLIGHT
TZOFFSETFROM:+0000
TZOFFSETTO:+0100
TZNAME:BST
DTSTART:20230326T010000
END:DAYLIGHT
BEGIN:STANDARD
TZOFFSETFROM:+0100
TZOFFSETTO:+0000
TZNAME:GMT
DTSTART:20231029T010000
END:STANDARD
END:VTIMEZONE
BEGIN:VEVENT
DTSTART;TZID=Europe/London:20230723T130000
DTEND;TZID=Europe/London:20230723T170000
DTSTAMP:20260419T172128
CREATED:20230119T203800Z
LAST-MODIFIED:20230119T203800Z
UID:7849-1690117200-1690131600@horwichrmiharriers.co.uk
SUMMARY:Chapelfell Top Fell Race
DESCRIPTION:One of this years Horwich Fell Champ races.  Open to 18+ this is a category AS race over 7K or 4.4miles and is pre entry only.
URL:https://horwichrmiharriers.co.uk/calendar/chapelfell-top-fell-race/
LOCATION:DL13 1QH\, Barrington Hall\, St Johns Chapel\, DL13 1QH
CATEGORIES:Fell,Horwich Fell Club Champs,Seniors
END:VEVENT
END:VCALENDAR