BEGIN:VCALENDAR
VERSION:2.0
PRODID:-//Horwich Harriers AC - ECPv5.12.3//NONSGML v1.0//EN
CALSCALE:GREGORIAN
METHOD:PUBLISH
X-WR-CALNAME:Horwich Harriers AC
X-ORIGINAL-URL:https://horwichrmiharriers.co.uk
X-WR-CALDESC:Events for Horwich Harriers AC
BEGIN:VTIMEZONE
TZID:Europe/London
BEGIN:DAYLIGHT
TZOFFSETFROM:+0000
TZOFFSETTO:+0100
TZNAME:BST
DTSTART:20230326T010000
END:DAYLIGHT
BEGIN:STANDARD
TZOFFSETFROM:+0100
TZOFFSETTO:+0000
TZNAME:GMT
DTSTART:20231029T010000
END:STANDARD
END:VTIMEZONE
BEGIN:VEVENT
DTSTART;TZID=Europe/London:20230628T193000
DTEND;TZID=Europe/London:20230628T210000
DTSTAMP:20260421T194813
CREATED:20230112T203734Z
LAST-MODIFIED:20230119T202022Z
UID:7789-1687980600-1687986000@horwichrmiharriers.co.uk
SUMMARY:Eddies’s Revenge Fell Race
DESCRIPTION:One of the run the moors series\, this race is open to 16yrs+ and is a category AS race over 6.1Km or 3.8Miles.  Pre entry only.
URL:https://horwichrmiharriers.co.uk/calendar/eddiess-revenge-fell-race/
LOCATION:OL2 8ND\, St Saviours Church\, Buckstones Road\, Shaw\, OL2 8ND
CATEGORIES:Fell,Horwich Fell Club Champs,Run The Moors,Seniors
END:VEVENT
END:VCALENDAR