BEGIN:VCALENDAR
VERSION:2.0
PRODID:-//Horwich Harriers AC - ECPv5.12.3//NONSGML v1.0//EN
CALSCALE:GREGORIAN
METHOD:PUBLISH
X-WR-CALNAME:Horwich Harriers AC
X-ORIGINAL-URL:https://horwichrmiharriers.co.uk
X-WR-CALDESC:Events for Horwich Harriers AC
BEGIN:VTIMEZONE
TZID:Europe/London
BEGIN:DAYLIGHT
TZOFFSETFROM:+0000
TZOFFSETTO:+0100
TZNAME:BST
DTSTART:20230326T010000
END:DAYLIGHT
BEGIN:STANDARD
TZOFFSETFROM:+0100
TZOFFSETTO:+0000
TZNAME:GMT
DTSTART:20231029T010000
END:STANDARD
END:VTIMEZONE
BEGIN:VEVENT
DTSTART;TZID=Europe/London:20230603T110000
DTEND;TZID=Europe/London:20230603T170000
DTSTAMP:20260421T194903
CREATED:20230119T203227Z
LAST-MODIFIED:20230119T203227Z
UID:7845-1685790000-1685811600@horwichrmiharriers.co.uk
SUMMARY:Duddon Valley Fell Race
DESCRIPTION:One of this years HOrwich Fell Champ Races open to seniors 18+.  This is a category AL race over 29k or 18miles and is pre entry only.
URL:https://horwichrmiharriers.co.uk/calendar/duddon-valley-fell-race/
LOCATION:LA20 6ED\, Newfield Inn\, Seathwait\, Duddon Valley\, Cumbria\, LA20 6ED
CATEGORIES:Fell,Horwich Fell Club Champs,Seniors
END:VEVENT
END:VCALENDAR