BEGIN:VCALENDAR
VERSION:2.0
PRODID:-//Horwich Harriers AC - ECPv5.12.3//NONSGML v1.0//EN
CALSCALE:GREGORIAN
METHOD:PUBLISH
X-WR-CALNAME:Horwich Harriers AC
X-ORIGINAL-URL:https://horwichrmiharriers.co.uk
X-WR-CALDESC:Events for Horwich Harriers AC
BEGIN:VTIMEZONE
TZID:Europe/London
BEGIN:DAYLIGHT
TZOFFSETFROM:+0000
TZOFFSETTO:+0100
TZNAME:BST
DTSTART:20230326T010000
END:DAYLIGHT
BEGIN:STANDARD
TZOFFSETFROM:+0100
TZOFFSETTO:+0000
TZNAME:GMT
DTSTART:20231029T010000
END:STANDARD
END:VTIMEZONE
BEGIN:VEVENT
DTSTART;TZID=Europe/London:20230501T130000
DTEND;TZID=Europe/London:20230501T170000
DTSTAMP:20260421T211642
CREATED:20230112T202359Z
LAST-MODIFIED:20230119T202155Z
UID:7783-1682946000-1682960400@horwichrmiharriers.co.uk
SUMMARY:Coiners Fell Race
DESCRIPTION:One of the run the moors series of fell races this one is open to juniors as well as seniors.  Senior race is a category BM over 10.8Km or 6.7Miles and is open to over 18yrs with pre entry and entry on day available.  Junior races start at 10.30 but entry on day only.
URL:https://horwichrmiharriers.co.uk/calendar/coiners-fell-race/
LOCATION:HX7 5AF\, Mytholmroyd Community Centre\, HX7 5AF
CATEGORIES:Fell,Horwich Fell Club Champs,Juniors,Run The Moors,Seniors
END:VEVENT
END:VCALENDAR