BEGIN:VCALENDAR
VERSION:2.0
PRODID:-//Horwich Harriers AC - ECPv5.12.3//NONSGML v1.0//EN
CALSCALE:GREGORIAN
METHOD:PUBLISH
X-WR-CALNAME:Horwich Harriers AC
X-ORIGINAL-URL:https://horwichrmiharriers.co.uk
X-WR-CALDESC:Events for Horwich Harriers AC
BEGIN:VTIMEZONE
TZID:Europe/London
BEGIN:DAYLIGHT
TZOFFSETFROM:+0000
TZOFFSETTO:+0100
TZNAME:BST
DTSTART:20230326T010000
END:DAYLIGHT
BEGIN:STANDARD
TZOFFSETFROM:+0100
TZOFFSETTO:+0000
TZNAME:GMT
DTSTART:20231029T010000
END:STANDARD
END:VTIMEZONE
BEGIN:VEVENT
DTSTART;TZID=Europe/London:20230305T110000
DTEND;TZID=Europe/London:20230305T150000
DTSTAMP:20260422T001300
CREATED:20230112T200935Z
LAST-MODIFIED:20230119T201726Z
UID:7777-1678014000-1678028400@horwichrmiharriers.co.uk
SUMMARY:Ian Roberts Memorial Fell Race
DESCRIPTION:The first in the Run The Moors series of fell races.  Open to age 18 +. This is a BM category over 10.3Km or 6.4Miles and is entry on the day no pre entry.
URL:https://horwichrmiharriers.co.uk/calendar/ian-roberts-memorial-fell-race/
LOCATION:HD7 6NN\, Marsden Cricket Club\, Marsden\, Huddersfield\, HD7 6NN
CATEGORIES:Fell,Horwich Fell Club Champs,Run The Moors,Seniors
END:VEVENT
END:VCALENDAR