BEGIN:VCALENDAR
VERSION:2.0
PRODID:-//Horwich Harriers AC - ECPv5.12.3//NONSGML v1.0//EN
CALSCALE:GREGORIAN
METHOD:PUBLISH
X-WR-CALNAME:Horwich Harriers AC
X-ORIGINAL-URL:https://horwichrmiharriers.co.uk
X-WR-CALDESC:Events for Horwich Harriers AC
BEGIN:VTIMEZONE
TZID:Europe/London
BEGIN:DAYLIGHT
TZOFFSETFROM:+0000
TZOFFSETTO:+0100
TZNAME:BST
DTSTART:20220327T010000
END:DAYLIGHT
BEGIN:STANDARD
TZOFFSETFROM:+0100
TZOFFSETTO:+0000
TZNAME:GMT
DTSTART:20221030T010000
END:STANDARD
END:VTIMEZONE
BEGIN:VEVENT
DTSTART;TZID=Europe/London:20220430T130000
DTEND;TZID=Europe/London:20220430T170000
DTSTAMP:20260422T165651
CREATED:20220115T192503Z
LAST-MODIFIED:20220115T192503Z
UID:7526-1651323600-1651338000@horwichrmiharriers.co.uk
SUMMARY:Guisborough 3 Tops Fell Race
DESCRIPTION:A club Senior fell championship race open to anyone 18yrs and above.  Pre entry only. \nAM. 15.9km / 800m
URL:https://horwichrmiharriers.co.uk/calendar/guisborough-3-tops-fell-race/
LOCATION:TS14 7AQ\, Guisborough Sea Cadets Hall\, 74 Belmangate\, TS14 7AQ
CATEGORIES:Fell,Horwich Fell Club Champs,Seniors
END:VEVENT
END:VCALENDAR