BEGIN:VCALENDAR
VERSION:2.0
PRODID:-//Horwich Harriers AC - ECPv5.12.3//NONSGML v1.0//EN
CALSCALE:GREGORIAN
METHOD:PUBLISH
X-WR-CALNAME:Horwich Harriers AC
X-ORIGINAL-URL:https://horwichrmiharriers.co.uk
X-WR-CALDESC:Events for Horwich Harriers AC
BEGIN:VTIMEZONE
TZID:Europe/London
BEGIN:DAYLIGHT
TZOFFSETFROM:+0000
TZOFFSETTO:+0100
TZNAME:BST
DTSTART:20200329T010000
END:DAYLIGHT
BEGIN:STANDARD
TZOFFSETFROM:+0100
TZOFFSETTO:+0000
TZNAME:GMT
DTSTART:20201025T010000
END:STANDARD
END:VTIMEZONE
BEGIN:VEVENT
DTSTART;TZID=Europe/London:20200523T120000
DTEND;TZID=Europe/London:20200523T170000
DTSTAMP:20260426T003650
CREATED:20200111T210453Z
LAST-MODIFIED:20200304T185943Z
UID:7042-1590235200-1590253200@horwichrmiharriers.co.uk
SUMMARY:Fairfield Horseshoe Run the Moors Fell GP Race 6
DESCRIPTION:Fairfield Horseshoe is the 6th of 12 races in the Grand Prix.  Best 5 races to count.  Also a Horwich Club Champs Race \nAM\, 14.5k/914m (Ambleside). Part of 50 @ 50 series.  Early Pre Entry recommended.
URL:https://horwichrmiharriers.co.uk/calendar/run-the-moors-fell-gp-race-6/
CATEGORIES:Fell,Horwich Fell Club Champs,Seniors
END:VEVENT
END:VCALENDAR