BEGIN:VCALENDAR
VERSION:2.0
PRODID:-//Horwich Harriers AC - ECPv5.12.3//NONSGML v1.0//EN
CALSCALE:GREGORIAN
METHOD:PUBLISH
X-WR-CALNAME:Horwich Harriers AC
X-ORIGINAL-URL:https://horwichrmiharriers.co.uk
X-WR-CALDESC:Events for Horwich Harriers AC
BEGIN:VTIMEZONE
TZID:Europe/London
BEGIN:DAYLIGHT
TZOFFSETFROM:+0000
TZOFFSETTO:+0100
TZNAME:BST
DTSTART:20220327T010000
END:DAYLIGHT
BEGIN:STANDARD
TZOFFSETFROM:+0100
TZOFFSETTO:+0000
TZNAME:GMT
DTSTART:20221030T010000
END:STANDARD
END:VTIMEZONE
BEGIN:VEVENT
DTSTART;VALUE=DATE:20220716
DTEND;VALUE=DATE:20220718
DTSTAMP:20260423T013644
CREATED:20220310T203244Z
LAST-MODIFIED:20220310T203244Z
UID:7621-1657929600-1658102399@horwichrmiharriers.co.uk
SUMMARY:EA National U20/U23 Champs Bedford
DESCRIPTION:Track and Field Champs open to athletes with EA standards to qualify.  If you require further details contact williams_668@hotmail.com
URL:https://horwichrmiharriers.co.uk/calendar/ea-national-u20-u23-champs-bedford/
CATEGORIES:Seniors,Track And Field
END:VEVENT
END:VCALENDAR