BEGIN:VCALENDAR
VERSION:2.0
PRODID:-//Horwich Harriers AC - ECPv5.12.3//NONSGML v1.0//EN
CALSCALE:GREGORIAN
METHOD:PUBLISH
X-WR-CALNAME:Horwich Harriers AC
X-ORIGINAL-URL:https://horwichrmiharriers.co.uk
X-WR-CALDESC:Events for Horwich Harriers AC
BEGIN:VTIMEZONE
TZID:Europe/London
BEGIN:DAYLIGHT
TZOFFSETFROM:+0000
TZOFFSETTO:+0100
TZNAME:BST
DTSTART:20220327T010000
END:DAYLIGHT
BEGIN:STANDARD
TZOFFSETFROM:+0100
TZOFFSETTO:+0000
TZNAME:GMT
DTSTART:20221030T010000
END:STANDARD
END:VTIMEZONE
BEGIN:VEVENT
DTSTART;TZID=Europe/London:20220518T193000
DTEND;TZID=Europe/London:20220518T193000
DTSTAMP:20260424T061145
CREATED:20220115T173904Z
LAST-MODIFIED:20220115T173904Z
UID:7506-1652902200-1652902200@horwichrmiharriers.co.uk
SUMMARY:Black stone Edge Fell Race
DESCRIPTION:4th race in the run the moors series.  Age 16 and above.  Pre entry only. \nAS\, 5.6km / 366m
URL:https://horwichrmiharriers.co.uk/calendar/black-stone-edge-fell-race/
LOCATION:OL15 0LL\, Knowl Farm\, Lydgate Hamlet\, Blackstone Edge\, old Road\, Littleborough\, OL15 0LL
CATEGORIES:Fell,Seniors
END:VEVENT
BEGIN:VEVENT
DTSTART;TZID=Europe/London:20220518T193000
DTEND;TZID=Europe/London:20220518T193000
DTSTAMP:20260424T061145
CREATED:20220513T182701Z
LAST-MODIFIED:20220513T182701Z
UID:7669-1652902200-1652902200@horwichrmiharriers.co.uk
SUMMARY:Jubilee Road Race Series
DESCRIPTION:This is race one of a 3 race series during May\, June & July.  Open to seniors.  Pre entry preferred but entry on night available.  Chip timed over a 5.4 mile 2 loop course around Rivington.
URL:https://horwichrmiharriers.co.uk/calendar/jubilee-road-race-series/
LOCATION:Rivington Primary School
CATEGORIES:Club Events,Road/Trail,Seniors
END:VEVENT
END:VCALENDAR