BEGIN:VCALENDAR
VERSION:2.0
PRODID:-//Horwich Harriers AC - ECPv5.12.3//NONSGML v1.0//EN
CALSCALE:GREGORIAN
METHOD:PUBLISH
X-WR-CALNAME:Horwich Harriers AC
X-ORIGINAL-URL:https://horwichrmiharriers.co.uk
X-WR-CALDESC:Events for Horwich Harriers AC
BEGIN:VTIMEZONE
TZID:Europe/London
BEGIN:DAYLIGHT
TZOFFSETFROM:+0000
TZOFFSETTO:+0100
TZNAME:BST
DTSTART:20200329T010000
END:DAYLIGHT
BEGIN:STANDARD
TZOFFSETFROM:+0100
TZOFFSETTO:+0000
TZNAME:GMT
DTSTART:20201025T010000
END:STANDARD
END:VTIMEZONE
BEGIN:VEVENT
DTSTART;VALUE=DATE:20200710
DTEND;VALUE=DATE:20200712
DTSTAMP:20260422T231616
CREATED:20200217T143200Z
LAST-MODIFIED:20200217T143200Z
UID:7088-1594339200-1594511999@horwichrmiharriers.co.uk
SUMMARY:ESAA Track & Field Championship
DESCRIPTION:English Schools Athletic Association Championship for juniors U15 – U19.
URL:https://horwichrmiharriers.co.uk/calendar/esaa-track-field-championship/
LOCATION:Sportcity Manchester Regional Arena\, Rowsley street\, Manchester\, M11
CATEGORIES:Juniors,Track And Field
END:VEVENT
END:VCALENDAR