BEGIN:VCALENDAR
VERSION:2.0
PRODID:-//Horwich Harriers AC - ECPv5.12.3//NONSGML v1.0//EN
CALSCALE:GREGORIAN
METHOD:PUBLISH
X-WR-CALNAME:Horwich Harriers AC
X-ORIGINAL-URL:https://horwichrmiharriers.co.uk
X-WR-CALDESC:Events for Horwich Harriers AC
BEGIN:VTIMEZONE
TZID:Europe/London
BEGIN:DAYLIGHT
TZOFFSETFROM:+0000
TZOFFSETTO:+0100
TZNAME:BST
DTSTART:20200329T010000
END:DAYLIGHT
BEGIN:STANDARD
TZOFFSETFROM:+0100
TZOFFSETTO:+0000
TZNAME:GMT
DTSTART:20201025T010000
END:STANDARD
END:VTIMEZONE
BEGIN:VEVENT
DTSTART;TZID=Europe/London:20200625T190000
DTEND;TZID=Europe/London:20200625T210000
DTSTAMP:20260423T205849
CREATED:20200313T210024Z
LAST-MODIFIED:20200313T210024Z
UID:7263-1593111600-1593118800@horwichrmiharriers.co.uk
SUMMARY:Witton Park Relays
DESCRIPTION:Trail relays open to anyone aged 12 upwards.  A team of 3 runners each completing a 3.65km leg with 169m ascent.  Category BS.  Entry is through the club\, anyone interested contact your coach.
URL:https://horwichrmiharriers.co.uk/calendar/witton-park-relays/
LOCATION:Witton Park\, Preston Old Road\, Blackburn\, BB2 2TP
CATEGORIES:Juniors,Relay,Road/Trail,Seniors
END:VEVENT
END:VCALENDAR