BEGIN:VCALENDAR
VERSION:2.0
PRODID:-//Horwich Harriers AC - ECPv5.12.3//NONSGML v1.0//EN
CALSCALE:GREGORIAN
METHOD:PUBLISH
X-WR-CALNAME:Horwich Harriers AC
X-ORIGINAL-URL:https://horwichrmiharriers.co.uk
X-WR-CALDESC:Events for Horwich Harriers AC
BEGIN:VTIMEZONE
TZID:Europe/London
BEGIN:DAYLIGHT
TZOFFSETFROM:+0000
TZOFFSETTO:+0100
TZNAME:BST
DTSTART:20200329T010000
END:DAYLIGHT
BEGIN:STANDARD
TZOFFSETFROM:+0100
TZOFFSETTO:+0000
TZNAME:GMT
DTSTART:20201025T010000
END:STANDARD
END:VTIMEZONE
BEGIN:VEVENT
DTSTART;VALUE=DATE:20200530
DTEND;VALUE=DATE:20200601
DTSTAMP:20260425T052923
CREATED:20200309T174020Z
LAST-MODIFIED:20200309T174020Z
UID:7174-1590796800-1590969599@horwichrmiharriers.co.uk
SUMMARY:GM Schools T & F Champs
DESCRIPTION:Track and field events open to juniors that have been selected by their schools to represent them.
URL:https://horwichrmiharriers.co.uk/calendar/gm-schools-t-f-champs/
LOCATION:Longford Park Stadium\, Ryebank Road\, Stretford\, Manchester\, M21 9TA
CATEGORIES:Juniors,Track And Field
END:VEVENT
BEGIN:VEVENT
DTSTART;TZID=Europe/London:20200530T083000
DTEND;TZID=Europe/London:20200530T130000
DTSTAMP:20260425T052923
CREATED:20200122T201509Z
LAST-MODIFIED:20200122T201509Z
UID:7069-1590827400-1590843600@horwichrmiharriers.co.uk
SUMMARY:Abersoch Race and Camping Weekend
DESCRIPTION:Races for both juniors and seniors consisting of a challenging 10k for seniors and a 3k beach race for juniors. Also planning to camp for the weekend with lots of club social fun. Pre entry for races\, for further details contact Glynne Lever.
URL:https://horwichrmiharriers.co.uk/calendar/abersoch-race-and-camping-weekend/
LOCATION:Abersoch\, Abersoch
CATEGORIES:Juniors,Road/Trail,Seniors
END:VEVENT
BEGIN:VEVENT
DTSTART;TZID=Europe/London:20200530T093000
DTEND;TZID=Europe/London:20200530T150000
DTSTAMP:20260425T052923
CREATED:20200111T165706Z
LAST-MODIFIED:20200111T165706Z
UID:7013-1590831000-1590850800@horwichrmiharriers.co.uk
SUMMARY:West Nab Junior Fell Race
DESCRIPTION:One of this years junior fell championships open to U9 – U19.  Registration on the day.
URL:https://horwichrmiharriers.co.uk/calendar/west-nab-junior-fell-race/
LOCATION:HD9 4AE\, Carlisle Institute\, Huddersfield Road\, Meltham\, HD9 4AE
CATEGORIES:Fell,Juniors
END:VEVENT
END:VCALENDAR