BEGIN:VCALENDAR
VERSION:2.0
PRODID:-//Horwich Harriers AC - ECPv5.12.3//NONSGML v1.0//EN
CALSCALE:GREGORIAN
METHOD:PUBLISH
X-WR-CALNAME:Horwich Harriers AC
X-ORIGINAL-URL:https://horwichrmiharriers.co.uk
X-WR-CALDESC:Events for Horwich Harriers AC
BEGIN:VTIMEZONE
TZID:Europe/London
BEGIN:DAYLIGHT
TZOFFSETFROM:+0000
TZOFFSETTO:+0100
TZNAME:BST
DTSTART:20200329T010000
END:DAYLIGHT
BEGIN:STANDARD
TZOFFSETFROM:+0100
TZOFFSETTO:+0000
TZNAME:GMT
DTSTART:20201025T010000
END:STANDARD
END:VTIMEZONE
BEGIN:VEVENT
DTSTART;TZID=Europe/London:20200524T100000
DTEND;TZID=Europe/London:20200524T170000
DTSTAMP:20260425T130129
CREATED:20191206T134746Z
LAST-MODIFIED:20191206T135044Z
UID:6905-1590314400-1590339600@horwichrmiharriers.co.uk
SUMMARY:YDL Upper League
DESCRIPTION:The second meeting of three in the YDL Upper league.  Open to juniors U17/U20  in years 10/11 and 12/13 interested in track and field.  Entry through the club.  Please speak to your coach for further details and to enter.
URL:https://horwichrmiharriers.co.uk/calendar/ydl-upper-league-2/
LOCATION:Leigh Sports Villiage\, Leigh
CATEGORIES:Juniors,Track And Field
END:VEVENT
END:VCALENDAR