BEGIN:VCALENDAR
VERSION:2.0
PRODID:-//Horwich Harriers AC - ECPv5.12.3//NONSGML v1.0//EN
CALSCALE:GREGORIAN
METHOD:PUBLISH
X-WR-CALNAME:Horwich Harriers AC
X-ORIGINAL-URL:https://horwichrmiharriers.co.uk
X-WR-CALDESC:Events for Horwich Harriers AC
BEGIN:VTIMEZONE
TZID:Europe/London
BEGIN:DAYLIGHT
TZOFFSETFROM:+0000
TZOFFSETTO:+0100
TZNAME:BST
DTSTART:20200329T010000
END:DAYLIGHT
BEGIN:STANDARD
TZOFFSETFROM:+0100
TZOFFSETTO:+0000
TZNAME:GMT
DTSTART:20201025T010000
END:STANDARD
END:VTIMEZONE
BEGIN:VEVENT
DTSTART;TZID=Europe/London:20200516T100000
DTEND;TZID=Europe/London:20200516T170000
DTSTAMP:20260425T225523
CREATED:20191206T123628Z
LAST-MODIFIED:20191206T123628Z
UID:6892-1589623200-1589648400@horwichrmiharriers.co.uk
SUMMARY:YDL Lower League
DESCRIPTION:The first meeting of four in the YDL lower league.  Open to juniors U13/U15 in years 6/7 and 8/9 interested in track and field.  Entry through the club.  Please speak to your coach for further details and to enter.
URL:https://horwichrmiharriers.co.uk/calendar/ydl-lower-league/
LOCATION:Carlisle\, Sheep mount Stadium\, Mayor’s Drive\, Carlisle\, CA3 8XL
CATEGORIES:Juniors,Track And Field
END:VEVENT
END:VCALENDAR