BEGIN:VCALENDAR
VERSION:2.0
PRODID:-//Horwich Harriers AC - ECPv5.12.3//NONSGML v1.0//EN
CALSCALE:GREGORIAN
METHOD:PUBLISH
X-WR-CALNAME:Horwich Harriers AC
X-ORIGINAL-URL:https://horwichrmiharriers.co.uk
X-WR-CALDESC:Events for Horwich Harriers AC
BEGIN:VTIMEZONE
TZID:Europe/London
BEGIN:DAYLIGHT
TZOFFSETFROM:+0000
TZOFFSETTO:+0100
TZNAME:BST
DTSTART:20190331T010000
END:DAYLIGHT
BEGIN:STANDARD
TZOFFSETFROM:+0100
TZOFFSETTO:+0000
TZNAME:GMT
DTSTART:20191027T010000
END:STANDARD
END:VTIMEZONE
BEGIN:VEVENT
DTSTART;TZID=Europe/London:20191124T100000
DTEND;TZID=Europe/London:20191124T140000
DTSTAMP:20260423T091733
CREATED:20190912T071339Z
LAST-MODIFIED:20190912T071339Z
UID:6790-1574589600-1574604000@horwichrmiharriers.co.uk
SUMMARY:Children in Need Pike Challenge
DESCRIPTION:This has become an annual event put on to  raise money for children in need.  Starting at Rivington &Blackrod School you “run” up to the Pike and back.  The aim is to complete as many people up and back in the time allotted.  Entry is a charity donation or why not get some  sponsors.  It is open to anyone in the club and there is always a great atmosphere and refreshments at the finish.  Anyone entering please notify your coach or Tony Hesketh and you will be given a time to arrive.
URL:https://horwichrmiharriers.co.uk/calendar/children-in-need-pike-challenge/
LOCATION:Rivington and Blackrod High School\, Rivington Lane\, Rivington\, Bolton\, BL6 7RU
CATEGORIES:Club Events,Fell,Juniors,Seniors
END:VEVENT
END:VCALENDAR