BEGIN:VCALENDAR
VERSION:2.0
PRODID:-//Horwich Harriers AC - ECPv5.12.3//NONSGML v1.0//EN
CALSCALE:GREGORIAN
METHOD:PUBLISH
X-WR-CALNAME:Horwich Harriers AC
X-ORIGINAL-URL:https://horwichrmiharriers.co.uk
X-WR-CALDESC:Events for Horwich Harriers AC
BEGIN:VTIMEZONE
TZID:Europe/London
BEGIN:DAYLIGHT
TZOFFSETFROM:+0000
TZOFFSETTO:+0100
TZNAME:BST
DTSTART:20190331T010000
END:DAYLIGHT
BEGIN:STANDARD
TZOFFSETFROM:+0100
TZOFFSETTO:+0000
TZNAME:GMT
DTSTART:20191027T010000
END:STANDARD
END:VTIMEZONE
BEGIN:VEVENT
DTSTART;TZID=Europe/London:20191117T120000
DTEND;TZID=Europe/London:20191117T160000
DTSTAMP:20260422T231555
CREATED:20190611T145842Z
LAST-MODIFIED:20190611T145842Z
UID:6518-1573992000-1574006400@horwichrmiharriers.co.uk
SUMMARY:Junior Sports Hall Athletics
DESCRIPTION:Sports Hall Athletics for U11 – U13 juniors.  The second of 3 meetings followed by the County Champs in Feb 2020.  Further details available from Gemma Stokes.
URL:https://horwichrmiharriers.co.uk/calendar/junior-sports-hall-athletics-6/
LOCATION:Sportcity Manchester Regional Arena\, Rowsley street\, Manchester\, M11
CATEGORIES:Juniors,Sportshall
END:VEVENT
END:VCALENDAR