BEGIN:VCALENDAR
VERSION:2.0
PRODID:-//Horwich Harriers AC - ECPv5.12.3//NONSGML v1.0//EN
CALSCALE:GREGORIAN
METHOD:PUBLISH
X-WR-CALNAME:Horwich Harriers AC
X-ORIGINAL-URL:https://horwichrmiharriers.co.uk
X-WR-CALDESC:Events for Horwich Harriers AC
BEGIN:VTIMEZONE
TZID:Europe/London
BEGIN:DAYLIGHT
TZOFFSETFROM:+0000
TZOFFSETTO:+0100
TZNAME:BST
DTSTART:20190331T010000
END:DAYLIGHT
BEGIN:STANDARD
TZOFFSETFROM:+0100
TZOFFSETTO:+0000
TZNAME:GMT
DTSTART:20191027T010000
END:STANDARD
END:VTIMEZONE
BEGIN:VEVENT
DTSTART;TZID=Europe/London:20191109T120000
DTEND;TZID=Europe/London:20191109T160000
DTSTAMP:20260422T110431
CREATED:20190611T144420Z
LAST-MODIFIED:20190611T144420Z
UID:6510-1573300800-1573315200@horwichrmiharriers.co.uk
SUMMARY:Red Rose XC Todmorden
DESCRIPTION:Third race in the Red Rose Cross Country League.  Open to U11 – Seniors.
URL:https://horwichrmiharriers.co.uk/calendar/red-rose-xc-todmorden/
LOCATION:Todmorden\, Centre Vale Park\, Todmorden
CATEGORIES:Cross Country,Juniors,Seniors
END:VEVENT
BEGIN:VEVENT
DTSTART;TZID=Europe/London:20191109T120000
DTEND;TZID=Europe/London:20191109T170000
DTSTAMP:20260422T110431
CREATED:20190901T181825Z
LAST-MODIFIED:20190901T181825Z
UID:6727-1573300800-1573318800@horwichrmiharriers.co.uk
SUMMARY:MACCL Race 2
DESCRIPTION:2nd Race in the Manchester Area Cross Country League.  Open to U11 – Seniors.  Junior races start from 12pm\, seniors from 1.30pm.  All entries are through the club\, anyone interested speak to Pete Ramsdale.
URL:https://horwichrmiharriers.co.uk/calendar/maccl-race-2/
LOCATION:Kenworthy Woods\, Manchester University Playing Fields\, Manchester
CATEGORIES:Cross Country,Juniors,Seniors
END:VEVENT
END:VCALENDAR