BEGIN:VCALENDAR
VERSION:2.0
PRODID:-//Horwich Harriers AC - ECPv5.12.3//NONSGML v1.0//EN
CALSCALE:GREGORIAN
METHOD:PUBLISH
X-WR-CALNAME:Horwich Harriers AC
X-ORIGINAL-URL:https://horwichrmiharriers.co.uk
X-WR-CALDESC:Events for Horwich Harriers AC
BEGIN:VTIMEZONE
TZID:Europe/London
BEGIN:DAYLIGHT
TZOFFSETFROM:+0000
TZOFFSETTO:+0100
TZNAME:BST
DTSTART:20190331T010000
END:DAYLIGHT
BEGIN:STANDARD
TZOFFSETFROM:+0100
TZOFFSETTO:+0000
TZNAME:GMT
DTSTART:20191027T010000
END:STANDARD
END:VTIMEZONE
BEGIN:VEVENT
DTSTART;VALUE=DATE:20190811
DTEND;VALUE=DATE:20190812
DTSTAMP:20260425T202825
CREATED:20190306T191038Z
LAST-MODIFIED:20190306T191038Z
UID:6365-1565481600-1565567999@horwichrmiharriers.co.uk
SUMMARY:Warrington AC T & F Open
DESCRIPTION:Track and Field meeting for ages U9 to seniors.
URL:https://horwichrmiharriers.co.uk/calendar/warrington-ac-t-f-open/
LOCATION:Victoria Park Stadium\, Knutsford Road\, Warrington
CATEGORIES:Juniors,Seniors,Track And Field
END:VEVENT
END:VCALENDAR