BEGIN:VCALENDAR
VERSION:2.0
PRODID:-//Horwich Harriers AC - ECPv5.12.3//NONSGML v1.0//EN
CALSCALE:GREGORIAN
METHOD:PUBLISH
X-WR-CALNAME:Horwich Harriers AC
X-ORIGINAL-URL:https://horwichrmiharriers.co.uk
X-WR-CALDESC:Events for Horwich Harriers AC
BEGIN:VTIMEZONE
TZID:Europe/London
BEGIN:DAYLIGHT
TZOFFSETFROM:+0000
TZOFFSETTO:+0100
TZNAME:BST
DTSTART:20190331T010000
END:DAYLIGHT
BEGIN:STANDARD
TZOFFSETFROM:+0100
TZOFFSETTO:+0000
TZNAME:GMT
DTSTART:20191027T010000
END:STANDARD
END:VTIMEZONE
BEGIN:VEVENT
DTSTART;TZID=Europe/London:20190706T110000
DTEND;TZID=Europe/London:20190706T160000
DTSTAMP:20260424T183221
CREATED:20190130T192514Z
LAST-MODIFIED:20190130T192514Z
UID:6090-1562410800-1562428800@horwichrmiharriers.co.uk
SUMMARY:Mid Lanc’s Track League Lancaster
DESCRIPTION:Mid Lanc’s League Track and Field.  U13 – seniors.  Fourth of six meetings including a final medal meeting.  Self entry and pay on day.
URL:https://horwichrmiharriers.co.uk/calendar/mid-lancs-track-league-lancaster/
LOCATION:Salt Ayre Athletics Track\, Salt Ayre Lane\, Lancaster\, LA1 5JS
CATEGORIES:Juniors,Seniors,Track And Field
END:VEVENT
END:VCALENDAR