BEGIN:VCALENDAR
VERSION:2.0
PRODID:-//Horwich Harriers AC - ECPv5.12.3//NONSGML v1.0//EN
CALSCALE:GREGORIAN
METHOD:PUBLISH
X-WR-CALNAME:Horwich Harriers AC
X-ORIGINAL-URL:https://horwichrmiharriers.co.uk
X-WR-CALDESC:Events for Horwich Harriers AC
BEGIN:VTIMEZONE
TZID:Europe/London
BEGIN:DAYLIGHT
TZOFFSETFROM:+0000
TZOFFSETTO:+0100
TZNAME:BST
DTSTART:20190331T010000
END:DAYLIGHT
BEGIN:STANDARD
TZOFFSETFROM:+0100
TZOFFSETTO:+0000
TZNAME:GMT
DTSTART:20191027T010000
END:STANDARD
END:VTIMEZONE
BEGIN:VEVENT
DTSTART;TZID=Europe/London:20190622T110000
DTEND;TZID=Europe/London:20190622T170000
DTSTAMP:20260425T113704
CREATED:20190130T181535Z
LAST-MODIFIED:20190130T181535Z
UID:6074-1561201200-1561222800@horwichrmiharriers.co.uk
SUMMARY:YDL Leigh lower age
DESCRIPTION:Youth Development League for lower age juniors U13 – U15’s.  Third of 4 meetings.  Team entry is through the club\, for details contact Trevor Williams (williams_668@hotmail.com)
URL:https://horwichrmiharriers.co.uk/calendar/ydl-leigh-lower-age/
LOCATION:Leigh Sports Villiage\, Leigh
CATEGORIES:Juniors,Track And Field
END:VEVENT
BEGIN:VEVENT
DTSTART;TZID=Europe/London:20190622T130000
DTEND;TZID=Europe/London:20190622T170000
DTSTAMP:20260425T113704
CREATED:20190123T131145Z
LAST-MODIFIED:20190123T131145Z
UID:6023-1561208400-1561222800@horwichrmiharriers.co.uk
SUMMARY:Clougha Pike Fell Race
DESCRIPTION:One of this years junior Fell championship races.  U9-U17.  Entry on day.  Also senior races.
URL:https://horwichrmiharriers.co.uk/calendar/clougha-pike-fell-race/
LOCATION:LA2 9EH\, Quernmore Village Crossroads\, Lancaster\, LA2 9EH
CATEGORIES:Fell,Juniors,Seniors
END:VEVENT
END:VCALENDAR