BEGIN:VCALENDAR
VERSION:2.0
PRODID:-//Horwich Harriers AC - ECPv5.12.3//NONSGML v1.0//EN
CALSCALE:GREGORIAN
METHOD:PUBLISH
X-WR-CALNAME:Horwich Harriers AC
X-ORIGINAL-URL:https://horwichrmiharriers.co.uk
X-WR-CALDESC:Events for Horwich Harriers AC
BEGIN:VTIMEZONE
TZID:Europe/London
BEGIN:DAYLIGHT
TZOFFSETFROM:+0000
TZOFFSETTO:+0100
TZNAME:BST
DTSTART:20190331T010000
END:DAYLIGHT
BEGIN:STANDARD
TZOFFSETFROM:+0100
TZOFFSETTO:+0000
TZNAME:GMT
DTSTART:20191027T010000
END:STANDARD
END:VTIMEZONE
BEGIN:VEVENT
DTSTART;TZID=Europe/London:20190428T113000
DTEND;TZID=Europe/London:20190428T170000
DTSTAMP:20260425T185827
CREATED:20190206T141936Z
LAST-MODIFIED:20190206T141936Z
UID:6167-1556451000-1556470800@horwichrmiharriers.co.uk
SUMMARY:Kinder Downfall Fell Race
DESCRIPTION:An Area Fell Grand Prix Race for seniors.  Pre entry or entry on day.
URL:https://horwichrmiharriers.co.uk/calendar/kinder-downfall-fell-race/
CATEGORIES:Fell,Seniors
END:VEVENT
END:VCALENDAR