BEGIN:VCALENDAR
VERSION:2.0
PRODID:-//Horwich Harriers AC - ECPv5.12.3//NONSGML v1.0//EN
CALSCALE:GREGORIAN
METHOD:PUBLISH
X-WR-CALNAME:Horwich Harriers AC
X-ORIGINAL-URL:https://horwichrmiharriers.co.uk
X-WR-CALDESC:Events for Horwich Harriers AC
BEGIN:VTIMEZONE
TZID:Europe/London
BEGIN:DAYLIGHT
TZOFFSETFROM:+0000
TZOFFSETTO:+0100
TZNAME:BST
DTSTART:20200329T010000
END:DAYLIGHT
BEGIN:STANDARD
TZOFFSETFROM:+0100
TZOFFSETTO:+0000
TZNAME:GMT
DTSTART:20201025T010000
END:STANDARD
END:VTIMEZONE
BEGIN:VEVENT
DTSTART;TZID=Europe/London:20200411T113000
DTEND;TZID=Europe/London:20200411T170000
DTSTAMP:20260422T212333
CREATED:20200111T162753Z
LAST-MODIFIED:20200302T105308Z
UID:7007-1586604600-1586624400@horwichrmiharriers.co.uk
SUMMARY:Rivington Pike Junior Fell Race
DESCRIPTION:One of this years junior fell championships.  Open for ages U9- U19.
URL:https://horwichrmiharriers.co.uk/calendar/rivington-pike-junior-fell-race/
LOCATION:Rivington and Blackrod High School\, Rivington Lane\, Rivington\, Bolton\, BL6 7RU
CATEGORIES:Club Events,Fell,Juniors
END:VEVENT
BEGIN:VEVENT
DTSTART;TZID=Europe/London:20200411T140000
DTEND;TZID=Europe/London:20200411T170000
DTSTAMP:20260422T212333
CREATED:20200111T163225Z
LAST-MODIFIED:20200304T191341Z
UID:7009-1586613600-1586624400@horwichrmiharriers.co.uk
SUMMARY:Rivington Pike Fell Race
DESCRIPTION:Our very own fell race.  Open to seniors over the age of 15.  Registration is in the crown.  Category BS.  Entry on day or pre entry. \nAlso one or our club Champ Races.
URL:https://horwichrmiharriers.co.uk/calendar/rivington-pike-fell-race/
CATEGORIES:Club Events,Fell,Horwich Fell Club Champs,Seniors
END:VEVENT
END:VCALENDAR