BEGIN:VCALENDAR
VERSION:2.0
PRODID:-//Horwich Harriers AC - ECPv5.12.3//NONSGML v1.0//EN
CALSCALE:GREGORIAN
METHOD:PUBLISH
X-WR-CALNAME:Horwich Harriers AC
X-ORIGINAL-URL:https://horwichrmiharriers.co.uk
X-WR-CALDESC:Events for Horwich Harriers AC
BEGIN:VTIMEZONE
TZID:Europe/London
BEGIN:DAYLIGHT
TZOFFSETFROM:+0000
TZOFFSETTO:+0100
TZNAME:BST
DTSTART:20230326T010000
END:DAYLIGHT
BEGIN:STANDARD
TZOFFSETFROM:+0100
TZOFFSETTO:+0000
TZNAME:GMT
DTSTART:20231029T010000
END:STANDARD
END:VTIMEZONE
BEGIN:VEVENT
DTSTART;TZID=Europe/London:20230219T093000
DTEND;TZID=Europe/London:20230219T140000
DTSTAMP:20260421T175743
CREATED:20230127T190417Z
LAST-MODIFIED:20230127T190417Z
UID:7865-1676799000-1676815200@horwichrmiharriers.co.uk
SUMMARY:Bolton 5K
DESCRIPTION:A 5K road race which is one of this years club road championship races. minimum age is 14 and headphones are not allowed.  Entry online or on the day if places still available. \n 
URL:https://horwichrmiharriers.co.uk/calendar/bolton-5k-2/
LOCATION:Leverhulme Park\, Leverhulme Park\, Bolton\, BL2 6EB
CATEGORIES:Horwich Club Road Champs,Road/Trail,Seniors
END:VEVENT
END:VCALENDAR