BEGIN:VCALENDAR
VERSION:2.0
PRODID:-//Horwich Harriers AC - ECPv5.12.3//NONSGML v1.0//EN
CALSCALE:GREGORIAN
METHOD:PUBLISH
X-WR-CALNAME:Horwich Harriers AC
X-ORIGINAL-URL:https://horwichrmiharriers.co.uk
X-WR-CALDESC:Events for Horwich Harriers AC
BEGIN:VTIMEZONE
TZID:Europe/London
BEGIN:DAYLIGHT
TZOFFSETFROM:+0000
TZOFFSETTO:+0100
TZNAME:BST
DTSTART:20230326T010000
END:DAYLIGHT
BEGIN:STANDARD
TZOFFSETFROM:+0100
TZOFFSETTO:+0000
TZNAME:GMT
DTSTART:20231029T010000
END:STANDARD
END:VTIMEZONE
BEGIN:VEVENT
DTSTART;TZID=Europe/London:20230519T080000
DTEND;TZID=Europe/London:20230519T170000
DTSTAMP:20260425T033308
CREATED:20230127T192314Z
LAST-MODIFIED:20230127T192314Z
UID:7872-1684483200-1684515600@horwichrmiharriers.co.uk
SUMMARY:Christie ton 5K
DESCRIPTION:5K road race open to anyone 11yrs upwards and one of this years Horwich senior road championship races.  Pre entry.
URL:https://horwichrmiharriers.co.uk/calendar/christie-ton-5k/
LOCATION:Christleton\, Christie ton Sports Centre\, Christleton\, Chester
CATEGORIES:Horwich Club Road Champs,Road/Trail,Seniors
END:VEVENT
END:VCALENDAR