BEGIN:VCALENDAR
VERSION:2.0
PRODID:-//Horwich Harriers AC - ECPv5.12.3//NONSGML v1.0//EN
CALSCALE:GREGORIAN
METHOD:PUBLISH
X-WR-CALNAME:Horwich Harriers AC
X-ORIGINAL-URL:https://horwichrmiharriers.co.uk
X-WR-CALDESC:Events for Horwich Harriers AC
BEGIN:VTIMEZONE
TZID:Europe/London
BEGIN:DAYLIGHT
TZOFFSETFROM:+0000
TZOFFSETTO:+0100
TZNAME:BST
DTSTART:20200329T010000
END:DAYLIGHT
BEGIN:STANDARD
TZOFFSETFROM:+0100
TZOFFSETTO:+0000
TZNAME:GMT
DTSTART:20201025T010000
END:STANDARD
END:VTIMEZONE
BEGIN:VEVENT
DTSTART;TZID=Europe/London:20201018T090000
DTEND;TZID=Europe/London:20201018T110000
DTSTAMP:20260422T120427
CREATED:20200309T152911Z
LAST-MODIFIED:20200309T152911Z
UID:7164-1603011600-1603018800@horwichrmiharriers.co.uk
SUMMARY:Gin Pit 5
DESCRIPTION:Trail race on of this years Club Road Champs.  Open to seniors.  Postal entries or entry on day.
URL:https://horwichrmiharriers.co.uk/calendar/gin-pit-5-2/
LOCATION:M29 7DW\, Miners Welfare Club\, Gin Pit Villiage\, Ley Road\, Tyldesley\, M29 7DW
CATEGORIES:Horwich Club Road Champs,Road/Trail,Seniors
END:VEVENT
END:VCALENDAR